BEGIN:VCALENDAR
PRODID://WordPress//Event-Post-V5.9.2//EN
VERSION:2.0
BEGIN:VEVENT
SUMMARY:Yungay Coffee en Casona Compañía
UID:https://agendayungay.cl/archivo-eventos/yungay-coffee-en-casona-compania-2/
LOCATION:
DTSTAMP:20260425Z
DTSTART:20260425Z
DTEND:20260425Z
DESCRIPTION: Reagendamos Yungay Coffee vol. 2ENTRADA LIBERADA 💥
El próximo sábado 25 de abril nos reunimos nuevamente en @casonacompania
para una jornada dedicada a la cultura cafetera ☕Tostadores, cafeterías
y proyectos de artes y oficios se encuentran para compartir café,
experiencias y abrir un espacio de encuentro en torno a la estética, el
oficio y la historia detrás de cada taza.
📍 Casona CompañíaCompañía de Jesús 2820, Santiago🕕 15:00 —
22:00 hrs
Ese día también estará @mercadocoloresdeyungay presentes en el barrio
con diferentes actividades 💫
En Yungay Coffee Vol. 2 podrás encontrar ...@yungaycoffee
END:VEVENT
END:VCALENDAR