BEGIN:VCALENDAR
PRODID://WordPress//Event-Post-V5.9.2//EN
VERSION:2.0
BEGIN:VEVENT
SUMMARY:Nader Cabezas: Aniversario de Rocket Cinema Edición en Vinilo &amp; Concierto junto a Relámpagos en M100
UID:https://agendayungay.cl/archivo-eventos/nader-cabezas-aniversario-de-rocket-cinema-edicion-en-vinilo-concierto-junto-a-relampagos-en-m100/
LOCATION:
DTSTAMP:20260603T200000Z
DTSTART:20260603T200000Z
DTEND:20260603T220000Z
DESCRIPTION:Conmemoración de los 10 años de Rocket Cinema: concierto audiovisual con
lanzamiento en vinilo que promueve la música independiente y la reflexión
contemporánea.
Atmósferas envolventes, lirismo introspectivo y una identidad sonora en
constante evolución. La música de Nader Cabezas se nutre de los sonidos
de los años ochenta, pero lejos de la nostalgia, propone una
superposición de dimensiones temporales: un “fundido encadenado”
sonoro donde pasado y presente conviven, creando una experiencia a la vez
nueva y familiar. En ese cruce, transita entre el art pop, el post punk, la
electrónica de autor y un folk de impronta retrofuturista.
Con cinco álbumes y tres EP publicados, su trabajo comenzó a posicionarse
en el mapa musical chileno tras su inclusión en la banda sonora de La vida
de los peces de Matías Bize. Desde entonces, ha desarrollado una
discografía coherente, centrada en la creación de paisajes sonoros que
apelan directamente a lo emocional.
A lo largo de su carrera ha formado parte de sellos como Celadores y Le
Rock Psicophonique, manteniendo una fuerte identidad independiente que le
ha permitido consolidar una propuesta autoral sólida dentro de la escena
local.
CONCIERTOS
Miércoles 03/06/2026
20:00 hrs
Preventa 1: $8.000
Preventa 2: $10.000
General: $12.000
Espacio Patricio Bunster
Los tickets no tienen opciones de cambios o devoluciones.
120 min
Todo Espectador
END:VEVENT
END:VCALENDAR