BEGIN:VCALENDAR
PRODID://WordPress//Event-Post-V5.9.2//EN
VERSION:2.0
BEGIN:VEVENT
SUMMARY:Exposición Naturalia de Gonzalo Pedraza en M100
UID:https://agendayungay.cl/archivo-exposiciones/exposicion-naturalia-de-gonzalo-pedraza-en-m100/
LOCATION:
DTSTAMP:20260502Z
DTSTART:20260502Z
DTEND:20260607Z
DESCRIPTION:Naturalia
Artes Visuales · Del 02/05 al 07/06
La estructura del invernadero art nouveau de Quinta Normal es replicada por
el artista Gonzalo Pedraza, transformándola en una escultura minimalista
de grandes dimensiones.
Naturalia es una exhibición del artista visual Gonzalo Pedraza que
consiste en replicar la estructura del invernadero art nouveau ubicado en
el Parque Quinta Normal, transformándola en una escultura minimalista de
grandes dimensiones.
En el interior de esta, estarán ubicadas una serie de plantas
confeccionadas con pinturas encontradas en ferias libres o en lugares de
desechos: las partes más duras formarán macetas -marcos y bastidores-
mientras que las más blandas hojas y tallos -telas y alambres.
El conjunto creará diversas especies que se instalarán dentro de este
invernadero que el espectador podrá recorrer.
En los extremos de la Galería Principal se crearon dos salas: El arte como
basura, que acumula todos los residuos de la exhibición, y ¿Dónde está
el texto?, sala que presenta un agudo diálogo entre dos espectadores que
visitaron la muestra.
Gonzalo Pedraza (Santiago, 1982) es Artista Visual, Licenciado en Teoría e
Historia del Arte y Magíster en Estudios Latinoamericanos por la
Universidad de Chile.
Su práctica artística se sitúa en la intersección entre el
coleccionismo, la cultura material y la construcción de la mirada,
cuestionando los modos en que las instituciones ponen en valor los objetos
y la naturaleza.
Ha realizado exposiciones individuales en Chile y el extranjero, destacando
hitos recientes como: Árida (Centro Cultural Las Condes, 2023), donde
explora la pintura de paisaje del siglo XIX; Cántaros (Galería Patricia
Ready, 2022); Octaedro (Sala de Arte CCU, 2021); Artists as a Subject (The
Kube Art Center / Monira Art Foundation, NY, 2020); Colección de imágenes
(Centro Cultural Recoleta, Buenos Aires, 2017); Colección Natural
(CorpArtes, 2016) y Fósiles (Galería Metales Pesados, 2014).
Desde 2008, desarrolla el proyecto Colección Vecinal, presentado en la VII
Bienal de Mercosur (Brasil), Matucana 100 y Lo Matta Cultural.
Su trayectoria incluye residencias y distinciones como SOMA (México), Mana
Contemporary (Nueva York) y el Premio FAVA. Ha dictado conferencias en
instituciones como MALI (Lima), MARGS (Porto Alegre), NYU y la Feria de
Arte de Sídney. Así como también se ha adjudicado diversos fondos
concursables (Fondart de investigación, exhibición y creación).
En paralelo a su producción visual, desarrolla una labor de investigación
y curaduría, destacando su trabajo en Matucana 100 (hasta 2014) y los
Project Rooms de la Feria Ch.ACO (2009-2011).
Es autor de las monografías Colecciones (2015), con textos de Andrea
Giunta, Peter Mason y Osvaldo Sánchez; y Colección Natural,
investigación financiada por Fondart. Actualmente, dirige el programa de
formación Estudios Independientes V.
Su obra forma parte de las colecciones Juan Yarur, Claudio Engel y la
Monira Art Foundation (NY), entre otras.
EXPOSICIÓN
Del 02/05 al 07/06
Mié a vie: de 12 a 14 y de 15 a 21 hrs.Sáb: de 16 a 21 hrs.Dom: de 16 a
20 hrs.
END:VEVENT
END:VCALENDAR