BEGIN:VCALENDAR
PRODID://WordPress//Event-Post-V5.9.2//EN
VERSION:2.0
BEGIN:VEVENT
SUMMARY:Mercado Colores de Yungay III
UID:https://agendayungay.cl/archivo-eventos/mercado-colores-de-yungay-iii/
LOCATION:
DTSTAMP:20260425T120000Z
DTSTART:20260425T120000Z
DTEND:20260425T210000Z
DESCRIPTION:Mercado Colores de Yungay III 🎨 llega en pleno mes del aniversario 187
de nuestro barrio para llenar las calles de arte, música, emprendimiento y
pura buena energía 🎨🎶
Un día para recorrer, descubrir, apoyar lo local y volver a conectar con
la esencia de uno de los barrios más vivos de Santiago 💛
Porque Barrio Yungay no solo cumple años… los vive, los comparte y los
celebra contigo 🥳🏛️
Guarda esta fecha:
📅 25 de abril
🕛 12:00 a 21:00 horas.
Y prepárate para una experiencia llena de colores 😉
END:VEVENT
END:VCALENDAR