BEGIN:VCALENDAR
PRODID://WordPress//Event-Post-V5.9.2//EN
VERSION:2.0
BEGIN:VEVENT
SUMMARY:Danzotea Salsa On 2 en Centro NAVE
UID:https://agendayungay.cl/archivo-eventos/danzotea-salsa-on-2-en-centro-nave/
LOCATION:
DTSTAMP:20260425T150000Z
DTSTART:20260425T150000Z
DTEND:20260425T170000Z
DESCRIPTION:🤸🏻‍♀️ El sábado 25 de abril te esperamos desde las 15 hrs., a
una nueva danzotea en NAVE. Esta vez bailaremos salsa con la guía de la
bailarina profesional Daniela Aravena, como parte de la programación del
Festival @movediza en NAVE.
❤️‍🔥 Esta es una instancia pensada para que todas y todos puedan
aprender a bailar, soltarse y conectar con la música, sin importar el
nivel ni la experiencia previa.
📲 Inscríbete GRATIS en nuestra bio o directamente en nave.io
📍 Centro NAVE. Libertad 410, Santiago. (Metro Cumming o Quinta Normal).
ESPACIO ABIERTO es un proyecto del Gobierno de Santiago, financiado a
través del Fondo Comunidad Activa y aprobado por el Consejo Regional
Metropolitano.
Plan de gestión financiado por el Programa de Apoyo a Organizaciones
Culturales Colaboradoras, Convocatoria 2026.
END:VEVENT
END:VCALENDAR