BEGIN:VCALENDAR
PRODID://WordPress//Event-Post-V5.9.2//EN
VERSION:2.0
BEGIN:VEVENT
SUMMARY:Convocatoria Nobodies Children por Yolanda Morales
UID:https://agendayungay.cl/archivo-eventos/convocatoria-nobodies-children-por-yolanda-morales/
LOCATION:
DTSTAMP:20260427Z
DTSTART:20260427Z
DTEND:20260508Z
DESCRIPTION:🔗 Previo a su residencia en NAVE, la coreógrafa Yolanda Morales abre
esta convocatoria en el contexto de su investigación: «Nobodies
Children».
📥 Para contacto, escribe al mail: yolandamoraher@gmail.com
🫱🏼‍🫲🏻 Esta residencia es posible gracias a la colaboración
del @goetheinstitut_chile y @k3.tanzplan.hamburg en conjunto con NAVE.
Plan de gestión financiado por el Programa de Apoyo a Organizaciones
Culturales Colaboradoras, Convocatoria 2026.
END:VEVENT
END:VCALENDAR