BEGIN:VCALENDAR
PRODID://WordPress//Event-Post-V5.9.2//EN
VERSION:2.0
BEGIN:VEVENT
SUMMARY:Taller de Grabado en Tetrapak en Espacio La Cochera
UID:https://agendayungay.cl/archivo-cursos/taller-de-grabado-en-tetrapak-en-espacio-la-cochera/
LOCATION:
DTSTAMP:20260425T103000Z
DTSTART:20260425T103000Z
DTEND:20260425T133000Z
DESCRIPTION:El grabado en Tetrapak es una técnica de impresión que utiliza envases
reciclados como matriz. Su proceso es similar al grabado en punta seca,
pero con la ventaja de trabajar con materiales accesibles y reutilizados
♻️
En el taller, cada participante creará su propio diseño y aprenderá
sobre los procesos del grabado, el uso de distintos materiales y tendrá un
acercamiento a una prensa profesional.
Imparte María José Sanhueza, Licenciada en Artes Plásticas con mención
en Grabado por la Universidad de Chile. Es gestora cultural y pasante de
Espacio La Cochera 😊
Sábado 25 de abril, de 10:30 a 13:30Valor: $12.000 (materiales
incluidos)Desde los 14 años
Inscripciones al correo maria.sanhueza.r@ug.uchile.cl o por Instagram La
Cochera.
📍Huérfanos 2567, Santiago.
Les esperamos!
END:VEVENT
END:VCALENDAR