BEGIN:VCALENDAR
PRODID://WordPress//Event-Post-V5.9.2//EN
VERSION:2.0
BEGIN:VEVENT
SUMMARY:Inauguración Festival de Artes Escénicas y Disidencia Sexual DESVIACIONES
UID:https://agendayungay.cl/archivo-eventos/inauguracion-festival-de-artes-escenicas-y-disidencia-sexual-desviaciones/
LOCATION:
DTSTAMP:20260422T183000Z
DTSTART:20260422T183000Z
DTEND:20260422T203000Z
DESCRIPTION:💥 Este miércoles 22 de abril inauguramos la segunda versión del
Festival de Artes Escénicas y Disidencia Sexual DESVIACIONES, en la
explanada del Museo de la Memoria y los Derechos Humanos. @museodelamemoria
💥Daremos a conocer la Programación 2026, que contempla once
producciones artísticas, cuatro talleres y una residencia internacional,
de más de 100 artistas y trabajadorxs culturales provenientes de tres
regiones de Chile, Argentina, Noruega y España. En ocho espacios
culturales de seis comunas de la RM.
💥Tendremos invitades musicales estelares, performances, una sorpresa de
nuestras queridas Yeguas Sueltas, realizaremos reconocimientos a quienes
admiramos y agradecemos sus trayectorias artísticas.Será una tarde para
encontrarnos entre comunidades, compartir y conjurar.
💥La animación oficial estará a cargo de las únicas e inigualables
@lola_quezadamendoza y @lamaladrag
🌈Este miércoles 22 de abril se conmemoran 53 años de la primera
manifestación política de la Diversidad Sexual en Chile realizada un 22
de abril de 1973. Es en éste contexto en que se inscribe esta versión del
festival, porque tenemos memoria, habitamos este presente y seguimos
imaginando y construyendo un futuro posible mejor para todas, todos y todes
📍18:30 hrs📍 Entrada gratuita y sólo para mayores de 16 años.
Queremos que vengan todxs, para recordar, reconocer, celebrar, protegernos
y gritar todxs juntxs
END:VEVENT
END:VCALENDAR