BEGIN:VCALENDAR
PRODID://WordPress//Event-Post-V5.9.2//EN
VERSION:2.0
BEGIN:VEVENT
SUMMARY:Workshop Fotografía de Danza en Casa Foto
UID:https://agendayungay.cl/archivo-cursos/workshop-fotografia-de-danza-en-casa-foto/
LOCATION:
DTSTAMP:20260425T110000Z
DTSTART:20260425T110000Z
DTEND:20260425T150000Z
DESCRIPTION:El registro de danza no pasa solo por un conocimiento técnico de la
fotografía, involucra además un profundo respeto hacia sus profesionales
el que se manifiesta a través de la apreciación de esta disciplina
artística. El crear imágenes que contribuyan a la mediación cultural de
la danza requiere comprender no solo el correcto uso de nuestros equipos
fotográficos sino además el valorar y conocer el trabajo de quienes
registramos :  bailarines y bailarinas. .Este workshop tiene por objetivo
mirar más allá de la técnica. Conocer cómo a través de una fotografía
podemos dar a conocer el trabajo de miles de artistas escénicos que han
hecho de la danza su forma de expresión, su
vida..CONTENIDOS Introducción a la fotografía de danzaElementos
técnicos de la fotografía de danzaApreciación de la danza como primer
paso para su registro fotográficoSesión fotográfica con una bailarina en
vivo.Fecha : Sábado 25 de Abril / 11:00 a 15:00 hrsLugar : CASAFOTO -
Santo Domingo 2430b / Barrio Yungay.Dirigido a: Fotógrafxs tanto
profesionales como aficionadxs interesadxs en conocer lo que existe tras la
técnica del registro de danza tanto en vivo como en sesiones
fotográficas. .Cupos LIMITADOS (máx.15 alumnos)Valor : $ 60.000PRECIO
PREVENTA  ( hasta el 20 de Abril ): $ 45.000Pago por plataforma
FLOW Disponibilidad pago tarjeta Débito o Crédito ..INFORMACIÓN E
INSCRIPCIONES : contacto@taofotografia.cl
END:VEVENT
END:VCALENDAR