BEGIN:VCALENDAR
PRODID://WordPress//Event-Post-V5.9.2//EN
VERSION:2.0
BEGIN:VEVENT
SUMMARY:Exposición Fotográfica "Tonos y Armonías de la Música en Chile" por Alfonso Yunge en Casa Foto
UID:https://agendayungay.cl/archivo-exposiciones/exposicion-fotografica-tonos-y-armonias-de-la-musica-en-chile-por-alfonso-yunge-en-casa-foto/
LOCATION:
DTSTAMP:20260422T193000Z
DTSTART:20260422T193000Z
DTEND:20260531T203000Z
DESCRIPTION:📷Este miércoles 22 de abril a las 19:30 hrs, te esperamos en Casa Foto
para inaugurar la exposición fotográfica “Tonos y Armonías de la
Música en Chile” del fotógrafo Alfonso Yunge.
🗓Miércoles 22 abril⌚️19:30 hrs📍Casa Foto - Santo Domingo 2430,
Barrio Yungay, Santiago.Ⓜ️Metro Cumming✨Entrada libre
🤝Con el apoyo de Nikon, Foto y Barrio y Junta de Vecinos Barrio Yungay.
¡No te la pierdas! Ven a descubrir, inspirarte y conectar con la comunidad
fotográfica.
END:VEVENT
END:VCALENDAR