BEGIN:VCALENDAR
PRODID://WordPress//Event-Post-V5.9.2//EN
VERSION:2.0
BEGIN:VEVENT
SUMMARY:Proyeccion continua "Dadirri: estar en paz" por la Compañia de Danza Chuyma en Biblioteca De Santiago
UID:https://agendayungay.cl/archivo-exposiciones/proyeccion-continua-dadirri-estar-en-paz-por-la-compania-de-danza-chuyma-en-biblioteca-de-santiago/
LOCATION:
DTSTAMP:20260422Z
DTSTART:20260422Z
DTEND:20260531Z
DESCRIPTION:“Dadirri: estar en paz” 🌙 llega desde el norte de nuestro país como
una invitación a detenernos y mirar hacia adentro 🌄De la Compañía de
Danza Chuyma / @ciachuyma ☀️, este videodanza se presenta en el
contexto del “Día de la Danza” y durante todo mayo en Sala de Artes
Mediales de la Biblioteca de Santiago 📽️📖“Dadirri” entrelaza
danza contemporánea y lenguaje audiovisual. A través de la
improvisación, sus intérpretes revelan la impermanencia y ese tránsito
fugaz entre plenitud, calma y presencia en la vida contemporánea
🩰Dirección Coreográfica: Camila Cepeda Meneses.Intérpretes: María
Paz Muñoz Rojas, Carlos Salfate Nuñez, Alejandro Pérez Segura, Camila
Cepeda Meneses.Audiovisual: Alejandro Pérez, María Paz Muñoz.Música:
Felipe Espinoza Leyton.Locación: Catarpe, San Pedro de Atacama. Chile.📆
Proyección continua | 22 de abril al 31 de mayo de 2026📍Sala de Artes
Mediales🕑Martes a viernes: 11:00 a 19:15 hrs.🕑Sábados y domingos:
11:15 a 17:00 hrs.4 d
END:VEVENT
END:VCALENDAR