BEGIN:VCALENDAR
PRODID://WordPress//Event-Post-V5.9.2//EN
VERSION:2.0
BEGIN:VEVENT
SUMMARY:Club de Lectura para abuelas/os y nietas/o
UID:https://agendayungay.cl/archivo-cursos/club-de-lectura-para-abuelas-os-y-nietas-o/
LOCATION:
DTSTAMP:20260424T160000Z
DTSTART:20260424T160000Z
DTEND:20260424T173000Z
DESCRIPTION:Te invitamos a participar en el Club de lectura para abuelas/os y
nietas/os; un espacio de encuentro intergeneracional para disfrutar juntos
de la lectura y compartir historias que conectan a todas las edades. 😉
Actividad dirigida a abuelas y abuelos junto a sus nietas o nietos (desde
los 5 años).
Cupos limitados: 8 parejas.
Las sesiones se realizarán de manera presencial, los viernes cada 14 días
entre el 24 de abril y el 28 de agosto, de 16:00 a 17:30 hrs.
Inscripciones al enlace o en la bio
Te esperamos! 🎉📚👵👧
END:VEVENT
END:VCALENDAR