BEGIN:VCALENDAR
PRODID://WordPress//Event-Post-V5.9.2//EN
VERSION:2.0
BEGIN:VEVENT
SUMMARY:Yoga Inclusivo para niñas y niños
UID:https://agendayungay.cl/archivo-cursos/yoga-inclusivo-para-ninas-y-ninos/
LOCATION:
DTSTAMP:20260425T130000Z
DTSTART:20260425T130000Z
DTEND:20260425T140000Z
DESCRIPTION:Una actividad basada en el juego, pensada especialmente como un primer
acercamiento a esta maravillosa y relajante práctica. 🌸✨
Anoten las coordenadas para que no falten:📅 Cuándo: Sábado 25 de abril
de 2026⏰ Hora: 13:00 hrs.📍 Dónde: Sala Infantil de la Biblioteca de
Santiago (Matucana 151).
¡Les esperamos para compartir, respirar y jugar junt@s! 🌈
END:VEVENT
END:VCALENDAR